BEGIN:VCALENDAR
VERSION:2.0
PRODID:-//Andreja Kočevar - ECPv6.15.20//NONSGML v1.0//EN
CALSCALE:GREGORIAN
METHOD:PUBLISH
X-WR-CALNAME:Andreja Kočevar
X-ORIGINAL-URL:https://andrejakocevar.si
X-WR-CALDESC:Dogodki za Andreja Kočevar
REFRESH-INTERVAL;VALUE=DURATION:PT1H
X-Robots-Tag:noindex
X-PUBLISHED-TTL:PT1H
BEGIN:VTIMEZONE
TZID:Europe/Ljubljana
BEGIN:DAYLIGHT
TZOFFSETFROM:+0100
TZOFFSETTO:+0200
TZNAME:CEST
DTSTART:20240331T010000
END:DAYLIGHT
BEGIN:STANDARD
TZOFFSETFROM:+0200
TZOFFSETTO:+0100
TZNAME:CET
DTSTART:20241027T010000
END:STANDARD
BEGIN:DAYLIGHT
TZOFFSETFROM:+0100
TZOFFSETTO:+0200
TZNAME:CEST
DTSTART:20250330T010000
END:DAYLIGHT
BEGIN:STANDARD
TZOFFSETFROM:+0200
TZOFFSETTO:+0100
TZNAME:CET
DTSTART:20251026T010000
END:STANDARD
BEGIN:DAYLIGHT
TZOFFSETFROM:+0100
TZOFFSETTO:+0200
TZNAME:CEST
DTSTART:20260329T010000
END:DAYLIGHT
BEGIN:STANDARD
TZOFFSETFROM:+0200
TZOFFSETTO:+0100
TZNAME:CET
DTSTART:20261025T010000
END:STANDARD
END:VTIMEZONE
BEGIN:VEVENT
DTSTART;TZID=Europe/Ljubljana:20250726T110000
DTEND;TZID=Europe/Ljubljana:20250726T180000
DTSTAMP:20260422T132724
CREATED:20250626T110225Z
LAST-MODIFIED:20250626T110325Z
UID:3117-1753527600-1753552800@andrejakocevar.si
SUMMARY:Gayatri mantra s 7 invokacijami
DESCRIPTION:Učenje Gayatri mantre\, ki je mati vseh manter in utelešenje Božanskosti\, ponuja pot do notranje zaščite in razvoja. Skozi petje Gayatri mantre z invokacijami in izvajanjem Gayatri kriye boste pridobili znanje o vedskih modrostih\, čakrah ter vaje za uravnoteženje energijskih centrov. Ta praksa prebudi močno notranjo energijo\, vas osvobaja in vas vodi k pravemu namenu\, saj je v današnjem svetu um preobremenjen z zunanjimi vplivi. \nVeč o Gayatri mantri s sedmimi invokacijami \nVprašajte za termin
URL:https://andrejakocevar.si/dogodki/gayatri-mantra-s-7-invokacijami/
LOCATION:Trgovska ulica 3\, Izola\, Trgovska ulica 3\, Izola
CATEGORIES:Gayatri mantra s 7 invokacijami
ATTACH;FMTTYPE=image/jpeg:https://andrejakocevar.si/wp-content/uploads/2024/05/AK-Photo-Facebook-Post.jpg
ORGANIZER;CN="Andreja Ko%C4%8Devar":MAILTO:info@andrejakocevar.si
END:VEVENT
END:VCALENDAR