BEGIN:VCALENDAR
VERSION:2.0
PRODID:-//Andreja Kočevar - ECPv6.15.20//NONSGML v1.0//EN
CALSCALE:GREGORIAN
METHOD:PUBLISH
X-ORIGINAL-URL:https://andrejakocevar.si
X-WR-CALDESC:Dogodki za Andreja Kočevar
REFRESH-INTERVAL;VALUE=DURATION:PT1H
X-Robots-Tag:noindex
X-PUBLISHED-TTL:PT1H
BEGIN:VTIMEZONE
TZID:Europe/Ljubljana
BEGIN:DAYLIGHT
TZOFFSETFROM:+0100
TZOFFSETTO:+0200
TZNAME:CEST
DTSTART:20240331T010000
END:DAYLIGHT
BEGIN:STANDARD
TZOFFSETFROM:+0200
TZOFFSETTO:+0100
TZNAME:CET
DTSTART:20241027T010000
END:STANDARD
BEGIN:DAYLIGHT
TZOFFSETFROM:+0100
TZOFFSETTO:+0200
TZNAME:CEST
DTSTART:20250330T010000
END:DAYLIGHT
BEGIN:STANDARD
TZOFFSETFROM:+0200
TZOFFSETTO:+0100
TZNAME:CET
DTSTART:20251026T010000
END:STANDARD
BEGIN:DAYLIGHT
TZOFFSETFROM:+0100
TZOFFSETTO:+0200
TZNAME:CEST
DTSTART:20260329T010000
END:DAYLIGHT
BEGIN:STANDARD
TZOFFSETFROM:+0200
TZOFFSETTO:+0100
TZNAME:CET
DTSTART:20261025T010000
END:STANDARD
END:VTIMEZONE
BEGIN:VEVENT
DTSTART;TZID=Europe/Ljubljana:20250918T190000
DTEND;TZID=Europe/Ljubljana:20250918T203000
DTSTAMP:20260420T181427
CREATED:20250828T113347Z
LAST-MODIFIED:20250828T144248Z
UID:3146-1758222000-1758227400@andrejakocevar.si
SUMMARY:Vibracije manter in gonga (Nova Gorica)
DESCRIPTION:Vabljeni na dogodek\, kjer združene vibracije manter in gonga prinašajo globoko sprostitev\, zdravljenje ter harmonijo telesa\, uma in duha. \nPrepustite se blagodejnim valovanjem gonga in osvobajajočim zvokom manter\, ki razbremenijo energijska in čustvena bremena ter prebujajo notranje kvalitete. \nVibracije manter in gonga
URL:https://andrejakocevar.si/dogodki/vibracije-manter-in-gonga-nova-gorica-10/
LOCATION:Srečna hiša\, Nova Gorica\, Srečna hiša\, Tumova ulica 5\, Nova Gorica\, 5000\, Slovenija
CATEGORIES:Vibracije Manter in Gonga
ATTACH;FMTTYPE=image/jpeg:https://andrejakocevar.si/wp-content/uploads/2024/05/48S-20.jpg
END:VEVENT
BEGIN:VEVENT
DTSTART;TZID=Europe/Ljubljana:20250920T190000
DTEND;TZID=Europe/Ljubljana:20250920T203000
DTSTAMP:20260420T181427
CREATED:20250829T183345Z
LAST-MODIFIED:20250829T204553Z
UID:3174-1758394800-1758400200@andrejakocevar.si
SUMMARY:Vibracije manter in gonga (Izola)
DESCRIPTION:Vabljeni na dogodek\, kjer združene vibracije manter in gonga prinašajo globoko sprostitev\, zdravljenje ter harmonijo telesa\, uma in duha. \nPrepustite se blagodejnim valovanjem gonga in osvobajajočim zvokom manter\, ki razbremenijo energijska in čustvena bremena ter prebujajo notranje kvalitete. \n\nVprašajte za termin\n\n\nVeč o vibracijah manter in gonga
URL:https://andrejakocevar.si/dogodki/vibracije-manter-in-gonga-izola-8/
LOCATION:Trgovska ulica 3\, Izola\, Trgovska ulica 3\, Izola
CATEGORIES:Vibracije Manter in Gonga
ATTACH;FMTTYPE=image/jpeg:https://andrejakocevar.si/wp-content/uploads/2024/05/48S-20.jpg
ORGANIZER;CN="Andreja Ko%C4%8Devar":MAILTO:info@andrejakocevar.si
END:VEVENT
BEGIN:VEVENT
DTSTART;TZID=Europe/Ljubljana:20250921T180000
DTEND;TZID=Europe/Ljubljana:20250921T193000
DTSTAMP:20260420T181427
CREATED:20250829T212246Z
LAST-MODIFIED:20250829T212556Z
UID:3268-1758477600-1758483000@andrejakocevar.si
SUMMARY:Vibracije manter in gonga (Celje)
DESCRIPTION:Vabljeni na dogodek\, kjer združene vibracije manter in gonga prinašajo globoko sprostitev\, zdravljenje ter harmonijo telesa\, uma in duha. \nPrepustite se blagodejnim valovanjem gonga in osvobajajočim zvokom manter\, ki razbremenijo energijska in čustvena bremena ter prebujajo notranje kvalitete. \n\nVprašajte za termin\n\n\nVeč o vibracijah manter in gonga
URL:https://andrejakocevar.si/dogodki/vibracije-manter-in-gonga-celje-7/
LOCATION:Ljubljanska ulica 8\, Celje\, Ljubljanska ulica 8\, Celje\, 3000\, Slovenia
ATTACH;FMTTYPE=image/jpeg:https://andrejakocevar.si/wp-content/uploads/2024/05/48S-20.jpg
ORGANIZER;CN="Andreja Ko%C4%8Devar":MAILTO:info@andrejakocevar.si
END:VEVENT
BEGIN:VEVENT
DTSTART;TZID=Europe/Ljubljana:20250922T203000
DTEND;TZID=Europe/Ljubljana:20250922T213000
DTSTAMP:20260420T181427
CREATED:20250829T183821Z
LAST-MODIFIED:20250902T081017Z
UID:3176-1758573000-1758576600@andrejakocevar.si
SUMMARY:BREZPLAČNA PREDSTAVITEV 8 MESEČNE ONLINE VADBE OBILJA (Online)
DESCRIPTION:Pridružite se nam na brezplačni predstavitvi 8-mesečnega programa obilja. \n\nVeč informacij\n \nČe želite resnično izboljšati odnos do sebe\, svojega življenja\, do blaginje kot osnovne pravice\, spremeniti svoj odnos do obilja\, ga sprejeti in znati uporabiti v svoje najvišje dobro\, potem srčno vabljeni v osem mesecev preobrazbe. V njih se bo ozdravljalo in transformiralo vse tisto kar vam stoji na poti do Najboljšega in Najvišjega.\nProgram je primeren za vse in ne zahteva predhodnega znanja. \nPodrobnosti brezplačne predstavitve: \nDatum: Ponedeljek\, 22.9.2025\nČas: Ob 20:30\nLokacija: Zoom aplikacija\nPrijava: info@andrejakocevar.si \nV programu vas vsak mesec čaka nova lekcija\, mantra in 4 meditacije. V sklopu 8 mesecev bomo organizirali tudi dva intenzivna vikenda v živo\, ki nista obvezna\, sta pa zelo priporočljiva: en po prvih 4 mesecih in en ob zaključku programa. \n  \n8 mesecev je celota\, zato se naknadno vadbi ne morete priključiti\, saj se bo učenje nadgrajevalo iz tedna v teden. Ob prijavi prejmete vse dodatne informacije in priporočila. \nPrijave za program: \nRok za prijavo: do 30.09.2025\nPrijava velja ob plačani prvi mesečni vadnini.\nMesečna vadnina: 60\,00 EUR \nPopusti za plačilo vnaprej: \nPlačilo v enem znesku do 2.10.2025: 400\,00 EUR (50\,00 EUR na mesec)\nPlačilo v dveh obrokih (1. del do 2.10.2025\, 2. del do 2.2.2026): 220\,00 EUR na obrok (55\,00 EUR na mesec) \nPodatki za nakazilo: \nPrejemnik: ANDREJA KOČEVAR s.p.\nNaslov: Prešernova ulica 25\, 3000 CELJE\nIBAN: SI56 6100 0002 8746 297\nBanka: Delavska Hranilnica DD Ljubljana\nNamen: vadnina \nVeselimo se vašega sodelovanja in skupne poti do obilja!
URL:https://andrejakocevar.si/dogodki/brezplacna-predstavitev-8-mesecne-online-vadbe-obilja-online/
LOCATION:Online
ATTACH;FMTTYPE=image/jpeg:https://andrejakocevar.si/wp-content/uploads/2024/09/AK-Photo1.jpg
ORGANIZER;CN="Andreja Ko%C4%8Devar":MAILTO:info@andrejakocevar.si
END:VEVENT
BEGIN:VEVENT
DTSTART;TZID=Europe/Ljubljana:20250927T190000
DTEND;TZID=Europe/Ljubljana:20250927T203000
DTSTAMP:20260420T181427
CREATED:20250828T142607Z
LAST-MODIFIED:20250828T144111Z
UID:3151-1758999600-1759005000@andrejakocevar.si
SUMMARY:Vibracije manter in gonga (Ljubljana)
DESCRIPTION:Vabljeni na dogodek\, kjer združene vibracije manter in gonga prinašajo globoko sprostitev\, zdravljenje ter harmonijo telesa\, uma in duha. \nPrepustite se blagodejnim valovanjem gonga in osvobajajočim zvokom manter\, ki razbremenijo energijska in čustvena bremena ter prebujajo notranje kvalitete. \n\nVprašajte za termin\n\n\nVeč o vibracijah manter in gonga
URL:https://andrejakocevar.si/dogodki/vibracije-manter-in-gonga-ljubljana-3/
LOCATION:GENDAI CENTER\, Leskoškova 6\, Ljubljana\, Slovenia
ATTACH;FMTTYPE=image/jpeg:https://andrejakocevar.si/wp-content/uploads/2024/05/48S-20.jpg
ORGANIZER;CN="Andreja Ko%C4%8Devar":MAILTO:info@andrejakocevar.si
END:VEVENT
END:VCALENDAR